
BEGIN:VCALENDAR
VERSION:2.0
PRODID:-//Etkinlikvarmi//Takvime Ekle//TR
BEGIN:VEVENT
UID:69eb32c88d3e9@etkinlikvarmi.com
DTSTAMP:20260424T090720Z
DTSTART:20260507T203000
DTEND:20260507T223000
SUMMARY:Miray Akovalıgil - Ya Bende Bir Şey Yoksa? - Stand Up
LOCATION:Türkan Şoray Kültür Merkezi , Antalya
DESCRIPTION:Miray Akovalıgil - Ya Bende Bir Şey Yoksa? - Stand Up etkinliği Antalya şehrinde Türkan Şoray Kültür Merkezi  mekanında.
END:VEVENT
END:VCALENDAR
