
BEGIN:VCALENDAR
VERSION:2.0
PRODID:-//Etkinlikvarmi//Takvime Ekle//TR
BEGIN:VEVENT
UID:69e5ee21d3a97@etkinlikvarmi.com
DTSTAMP:20260420T091305Z
DTSTART:20260509T200000
DTEND:20260509T220000
SUMMARY:Ruh Öküzüm
LOCATION:Şehit Kamil Sanat Merkezi, Gaziantep
DESCRIPTION:Ruh Öküzüm etkinliği Gaziantep şehrinde Şehit Kamil Sanat Merkezi mekanında.
END:VEVENT
END:VCALENDAR
