
BEGIN:VCALENDAR
VERSION:2.0
PRODID:-//Etkinlikvarmi//Takvime Ekle//TR
BEGIN:VEVENT
UID:69eb32de1142a@etkinlikvarmi.com
DTSTAMP:20260424T090742Z
DTSTART:20260509T130000
DTEND:20260509T150000
SUMMARY:Ne Olacağım Ben - Çocuk Müzikali
LOCATION:Akatlar Kültür Merkezi, İstanbul
DESCRIPTION:Ne Olacağım Ben - Çocuk Müzikali etkinliği İstanbul şehrinde Akatlar Kültür Merkezi mekanında.
END:VEVENT
END:VCALENDAR
