
BEGIN:VCALENDAR
VERSION:2.0
PRODID:-//Etkinlikvarmi//Takvime Ekle//TR
BEGIN:VEVENT
UID:69e63a3a8cfca@etkinlikvarmi.com
DTSTAMP:20260420T143746Z
DTSTART:20260509T130000
DTEND:20260509T150000
SUMMARY:80 Günde Devr-i Alem
LOCATION:Akatlar Kültür Merkezi, İstanbul
DESCRIPTION:80 Günde Devr-i Alem etkinliği İstanbul şehrinde Akatlar Kültür Merkezi mekanında.
END:VEVENT
END:VCALENDAR
