
BEGIN:VCALENDAR
VERSION:2.0
PRODID:-//Etkinlikvarmi//Takvime Ekle//TR
BEGIN:VEVENT
UID:69e5eda444e1c@etkinlikvarmi.com
DTSTAMP:20260420T091100Z
DTSTART:20260508T210000
DTEND:20260508T230000
SUMMARY:Soner Sarıkabadayı
LOCATION:Elazığ Akgün Otel, Elazığ
DESCRIPTION:Soner Sarıkabadayı etkinliği Elazığ şehrinde Elazığ Akgün Otel mekanında.
END:VEVENT
END:VCALENDAR
