
BEGIN:VCALENDAR
VERSION:2.0
PRODID:-//Etkinlikvarmi//Takvime Ekle//TR
BEGIN:VEVENT
UID:69eb6c427564f@etkinlikvarmi.com
DTSTAMP:20260424T131234Z
DTSTART:20260510T200000
DTEND:20260510T220000
SUMMARY:Miray Akovalıgil - Ya Bende Bir Şey Yoksa? - Stand Up
LOCATION:Watergarden Performans Merkezi, İstanbul
DESCRIPTION:Miray Akovalıgil - Ya Bende Bir Şey Yoksa? - Stand Up etkinliği İstanbul şehrinde Watergarden Performans Merkezi mekanında.
END:VEVENT
END:VCALENDAR
