
BEGIN:VCALENDAR
VERSION:2.0
PRODID:-//Etkinlikvarmi//Takvime Ekle//TR
BEGIN:VEVENT
UID:69e5f0c5ce5ec@etkinlikvarmi.com
DTSTAMP:20260420T092421Z
DTSTART:20260504T203000
DTEND:20260504T223000
SUMMARY:Mahşer-i Cümbüş
LOCATION:Bostanlı Suat Taşer Tiy., İzmir
DESCRIPTION:Mahşer-i Cümbüş etkinliği İzmir şehrinde Bostanlı Suat Taşer Tiy. mekanında.
END:VEVENT
END:VCALENDAR
