
BEGIN:VCALENDAR
VERSION:2.0
PRODID:-//Etkinlikvarmi//Takvime Ekle//TR
BEGIN:VEVENT
UID:69eb32c8c55cf@etkinlikvarmi.com
DTSTAMP:20260424T090720Z
DTSTART:20260426T130000
DTEND:20260426T150000
SUMMARY:Küçük Kara Balık
LOCATION:CKM A Salonu, İstanbul
DESCRIPTION:Küçük Kara Balık etkinliği İstanbul şehrinde CKM A Salonu mekanında.
END:VEVENT
END:VCALENDAR
