
BEGIN:VCALENDAR
VERSION:2.0
PRODID:-//Etkinlikvarmi//Takvime Ekle//TR
BEGIN:VEVENT
UID:69eb329f7e501@etkinlikvarmi.com
DTSTAMP:20260424T090639Z
DTSTART:20260425T130000
DTEND:20260425T150000
SUMMARY:Küçük Kara Balık
LOCATION:Altunizade Kültür Merkezi, İstanbul
DESCRIPTION:Küçük Kara Balık etkinliği İstanbul şehrinde Altunizade Kültür Merkezi mekanında.
END:VEVENT
END:VCALENDAR
