
BEGIN:VCALENDAR
VERSION:2.0
PRODID:-//Etkinlikvarmi//Takvime Ekle//TR
BEGIN:VEVENT
UID:69e5f0c5cd421@etkinlikvarmi.com
DTSTAMP:20260420T092421Z
DTSTART:20260423T210000
DTEND:20260423T230000
SUMMARY:Hayrettin ile Kaos Night
LOCATION:Jolly Joker Atakent Tema, İstanbul
DESCRIPTION:Hayrettin ile Kaos Night etkinliği İstanbul şehrinde Jolly Joker Atakent Tema mekanında.
END:VEVENT
END:VCALENDAR
