
BEGIN:VCALENDAR
VERSION:2.0
PRODID:-//Etkinlikvarmi//Takvime Ekle//TR
BEGIN:VEVENT
UID:69eb4768ba1c9@etkinlikvarmi.com
DTSTAMP:20260424T103520Z
DTSTART:20260425T210000
DTEND:20260425T230000
SUMMARY:Anlatanadam
LOCATION:Route Ankara, Ankara
DESCRIPTION:Anlatanadam etkinliği Ankara şehrinde Route Ankara mekanında.
END:VEVENT
END:VCALENDAR
