
BEGIN:VCALENDAR
VERSION:2.0
PRODID:-//Etkinlikvarmi//Takvime Ekle//TR
BEGIN:VEVENT
UID:69eb464b736d6@etkinlikvarmi.com
DTSTAMP:20260424T103035Z
DTSTART:20260429T203000
DTEND:20260429T223000
SUMMARY:Anlatanadam
LOCATION:İzmir Performance Hall, İzmir
DESCRIPTION:Anlatanadam etkinliği İzmir şehrinde İzmir Performance Hall mekanında.
END:VEVENT
END:VCALENDAR
