
BEGIN:VCALENDAR
VERSION:2.0
PRODID:-//Etkinlikvarmi//Takvime Ekle//TR
BEGIN:VEVENT
UID:69e5f1113e13c@etkinlikvarmi.com
DTSTAMP:20260420T092537Z
DTSTART:20260506T210000
DTEND:20260506T230000
SUMMARY:Hayrettin ile Kaos Night
LOCATION:Jolly Joker Ankara, Ankara
DESCRIPTION:Hayrettin ile Kaos Night etkinliği Ankara şehrinde Jolly Joker Ankara mekanında.
END:VEVENT
END:VCALENDAR
