
BEGIN:VCALENDAR
VERSION:2.0
PRODID:-//Etkinlikvarmi//Takvime Ekle//TR
BEGIN:VEVENT
UID:69e5edaba5280@etkinlikvarmi.com
DTSTAMP:20260420T091107Z
DTSTART:20260428T203000
DTEND:20260428T223000
SUMMARY:Hayrettin ile Kaos Night
LOCATION:Eskişehir Vehbi Koç Kongre Merkezi, Eskişehir
DESCRIPTION:Hayrettin ile Kaos Night etkinliği Eskişehir şehrinde Eskişehir Vehbi Koç Kongre Merkezi mekanında.
END:VEVENT
END:VCALENDAR
