
BEGIN:VCALENDAR
VERSION:2.0
PRODID:-//Etkinlikvarmi//Takvime Ekle//TR
BEGIN:VEVENT
UID:69e5edfb3f52e@etkinlikvarmi.com
DTSTAMP:20260420T091227Z
DTSTART:20260507T203000
DTEND:20260507T223000
SUMMARY:JAVADOFF - We Don't Say I Love You
LOCATION:Cemil Meriç Kültür Merkezi, Bursa
DESCRIPTION:JAVADOFF - We Don't Say I Love You etkinliği Bursa şehrinde Cemil Meriç Kültür Merkezi mekanında.
END:VEVENT
END:VCALENDAR
