
BEGIN:VCALENDAR
VERSION:2.0
PRODID:-//Etkinlikvarmi//Takvime Ekle//TR
BEGIN:VEVENT
UID:69e5edf986a2f@etkinlikvarmi.com
DTSTAMP:20260420T091225Z
DTSTART:20260502T203000
DTEND:20260502T223000
SUMMARY:Mahşer-i Cümbüş
LOCATION:Hilltown Seyirlik Sahne , İstanbul
DESCRIPTION:Mahşer-i Cümbüş etkinliği İstanbul şehrinde Hilltown Seyirlik Sahne  mekanında.
END:VEVENT
END:VCALENDAR
