
BEGIN:VCALENDAR
VERSION:2.0
PRODID:-//Etkinlikvarmi//Takvime Ekle//TR
BEGIN:VEVENT
UID:69eb329fbe316@etkinlikvarmi.com
DTSTAMP:20260424T090639Z
DTSTART:20260512T203000
DTEND:20260512T223000
SUMMARY:Miray Akovalıgil - Ya Bende Bir Şey Yoksa? - Stand Up
LOCATION:Kapadokya Kültür ve Sanat Merkezi, Nevşehir
DESCRIPTION:Miray Akovalıgil - Ya Bende Bir Şey Yoksa? - Stand Up etkinliği Nevşehir şehrinde Kapadokya Kültür ve Sanat Merkezi mekanında.
END:VEVENT
END:VCALENDAR
