
BEGIN:VCALENDAR
VERSION:2.0
PRODID:-//Etkinlikvarmi//Takvime Ekle//TR
BEGIN:VEVENT
UID:69e5edb70f2b6@etkinlikvarmi.com
DTSTAMP:20260420T091119Z
DTSTART:20260503T203000
DTEND:20260503T223000
SUMMARY:Hayrettin ile Kaos Night
LOCATION:Bostanlı Suat Taşer Tiy., İzmir
DESCRIPTION:Hayrettin ile Kaos Night etkinliği İzmir şehrinde Bostanlı Suat Taşer Tiy. mekanında.
END:VEVENT
END:VCALENDAR
