
BEGIN:VCALENDAR
VERSION:2.0
PRODID:-//Etkinlikvarmi//Takvime Ekle//TR
BEGIN:VEVENT
UID:69eb47210bdaf@etkinlikvarmi.com
DTSTAMP:20260424T103409Z
DTSTART:20260509T203000
DTEND:20260509T223000
SUMMARY:Anlatanadam
LOCATION:Tokat 26 Haziran AKM, Tokat
DESCRIPTION:Anlatanadam etkinliği Tokat şehrinde Tokat 26 Haziran AKM mekanında.
END:VEVENT
END:VCALENDAR
