
BEGIN:VCALENDAR
VERSION:2.0
PRODID:-//Etkinlikvarmi//Takvime Ekle//TR
BEGIN:VEVENT
UID:69eb47ca88d7a@etkinlikvarmi.com
DTSTAMP:20260424T103658Z
DTSTART:20260508T203000
DTEND:20260508T223000
SUMMARY:Anlatanadam
LOCATION:Yozgat Kültür Merkezi, Yozgat
DESCRIPTION:Anlatanadam etkinliği Yozgat şehrinde Yozgat Kültür Merkezi mekanında.
END:VEVENT
END:VCALENDAR
